BEGIN:VCALENDAR
VERSION:2.0
PRODID:-//Fashion Week Online&reg; - ECPv6.15.20//NONSGML v1.0//EN
CALSCALE:GREGORIAN
METHOD:PUBLISH
X-WR-CALNAME:Fashion Week Online&reg;
X-ORIGINAL-URL:https://fashionweekonline.com
X-WR-CALDESC:Events for Fashion Week Online&reg;
REFRESH-INTERVAL;VALUE=DURATION:PT1H
X-Robots-Tag:noindex
X-PUBLISHED-TTL:PT1H
BEGIN:VTIMEZONE
TZID:America/New_York
BEGIN:DAYLIGHT
TZOFFSETFROM:-0500
TZOFFSETTO:-0400
TZNAME:EDT
DTSTART:20250309T070000
END:DAYLIGHT
BEGIN:STANDARD
TZOFFSETFROM:-0400
TZOFFSETTO:-0500
TZNAME:EST
DTSTART:20251102T060000
END:STANDARD
BEGIN:DAYLIGHT
TZOFFSETFROM:-0500
TZOFFSETTO:-0400
TZNAME:EDT
DTSTART:20260308T070000
END:DAYLIGHT
BEGIN:STANDARD
TZOFFSETFROM:-0400
TZOFFSETTO:-0500
TZNAME:EST
DTSTART:20261101T060000
END:STANDARD
BEGIN:DAYLIGHT
TZOFFSETFROM:-0500
TZOFFSETTO:-0400
TZNAME:EDT
DTSTART:20270314T070000
END:DAYLIGHT
BEGIN:STANDARD
TZOFFSETFROM:-0400
TZOFFSETTO:-0500
TZNAME:EST
DTSTART:20271107T060000
END:STANDARD
END:VTIMEZONE
BEGIN:VEVENT
DTSTART;TZID=America/New_York:20260824T090000
DTEND;TZID=America/New_York:20260825T180000
DTSTAMP:20260421T133325
CREATED:20260418T123905Z
LAST-MODIFIED:20260418T123905Z
UID:10000085-1787562000-1787680800@fashionweekonline.com
SUMMARY:4th Global Summit on Nursing Education and Healthcare 2026
DESCRIPTION:We are cordially welcome your organization to the 4th Global Summit on Nursing Education and Healthcare 2026 will be held on August 24–25\, 2026 in Tokyo\, Japan\, under the theme “Innovations in Nursing Education: Transforming Healthcare Worldwide.” \nHosted by Intelli Meetings\, this premier event invites nurses\, healthcare professionals\, researchers\, and academics from around the world to connect and collaborate. \nWith over 300 international delegates\, the summit will feature keynote speeches\, oral and poster presentations\, and engaging panel discussions. \nThe program will focus on advancing nursing education\, practice\, and global healthcare innovation. \nhttps://nursingeducationcongress.com/
URL:https://fashionweekonline.com/calendar/4th-global-summit-on-nursing-education-and-healthcare-2026
CATEGORIES:International
ATTACH;FMTTYPE=image/jpeg:https://fashionweekonline.com/wp-content/uploads/2026/04/4th-nursing-1.jpg
END:VEVENT
BEGIN:VEVENT
DTSTART;VALUE=DATE:20260529
DTEND;VALUE=DATE:20260530
DTSTAMP:20260421T133325
CREATED:20260323T181305Z
LAST-MODIFIED:20260327T081907Z
UID:10000050-1780012800-1780099199@fashionweekonline.com
SUMMARY:White Fox Runway Show
DESCRIPTION:8 PM – 1 AM \nRSVP: Invitation only \n 
URL:https://fashionweekonline.com/calendar/white-fox-runway-show
CATEGORIES:Miami Swim Show
ATTACH;FMTTYPE=image/jpeg:https://fashionweekonline.com/wp-content/uploads/2026/03/white-fox.jpeg
END:VEVENT
BEGIN:VEVENT
DTSTART;TZID=America/New_York:20260528T080000
DTEND;TZID=America/New_York:20260528T170000
DTSTAMP:20260421T133325
CREATED:20260326T130759Z
LAST-MODIFIED:20260326T130938Z
UID:10000058-1779955200-1779987600@fashionweekonline.com
SUMMARY:Campoy Fashion Show
DESCRIPTION:RSVP campoyfashionshow@gmail.com
URL:https://fashionweekonline.com/calendar/campoy-fashion-show
CATEGORIES:Miami Swim Show
ATTACH;FMTTYPE=image/jpeg:https://fashionweekonline.com/wp-content/uploads/2026/03/Campoy-Fashion-Show.jpg
END:VEVENT
BEGIN:VEVENT
DTSTART;VALUE=DATE:20260528
DTEND;VALUE=DATE:20260602
DTSTAMP:20260421T133325
CREATED:20260420T103059Z
LAST-MODIFIED:20260420T103319Z
UID:10000086-1779926400-1780358399@fashionweekonline.com
SUMMARY:⭐️ Art Hearts Fashion Miami Swim Shows
DESCRIPTION:Save 25% on Tickets with FWO Pass \nBuy Direct (Full Price) \nRelated Website.
URL:https://fashionweekonline.com/calendar/art-hearts-fashion-miami-swim-shows
CATEGORIES:Miami Swim Show
ATTACH;FMTTYPE=image/jpeg:https://fashionweekonline.com/wp-content/uploads/2026/04/miami-swim.jpg
END:VEVENT
END:VCALENDAR